BEGIN:VCALENDAR
VERSION:2.0
PRODID:-//AudioTheme 2.3.8
BEGIN:VEVENT
UID:urn:uuid:60e14738-9c00-432f-98fa-f0d121a8459c
URL:https://janbudweis.de/shows/folkfest-hohnstein-2/
DTSTART;VALUE=DATE:20261009
SUMMARY:Folkfest Hohnstein
DESCRIPTION:Folkfest Hohnstein 9. - 11. Oktober 2026  Budweis Wunderlich bal folk Tanzhaus
LOCATION:Folkfest Hohnstein\, Burg Hohnstein Sachsen\, Hohnstein\, 
END:VEVENT
END:VCALENDAR
