BEGIN:VCALENDAR
VERSION:2.0
PRODID:-//AudioTheme 2.3.8
BEGIN:VEVENT
UID:urn:uuid:22ac451d-887d-4283-b918-80437b1ad9fd
URL:https://janbudweis.de/shows/folk-und-tanztage-fuersteneck/
DTSTART;VALUE=DATE:20240202
SUMMARY:Folk- und Tanztage Fürsteneck
DESCRIPTION:Ensemblekurs 2.-4. Februar
LOCATION:Burg Fürsteneck\, Am Schloßgarten 3\, Burg Fürsteneck\, \, 36132
END:VEVENT
END:VCALENDAR
