BEGIN:VCALENDAR
VERSION:2.0
PRODID:-//AudioTheme 2.3.8
BEGIN:VEVENT
UID:urn:uuid:d18f1fa1-aa43-4a91-af14-36fb81af6bbe
URL:https://janbudweis.de/shows/ensemblekurs-2/
DTSTART;VALUE=DATE:20240103
SUMMARY:Ensemblekurs
DESCRIPTION:Ensemblekurs vom 3. - 6. Januar  https://tiroler-musikverein.jimdofree.com/
LOCATION:Maria Waldrast\, Matrei am Brenner\, Österreich
END:VEVENT
END:VCALENDAR
