BEGIN:VCALENDAR
VERSION:2.0
PRODID:-//AudioTheme 2.3.8
BEGIN:VEVENT
UID:urn:uuid:aaa1b75a-c34a-4f04-a48c-1cdceff94df0
URL:https://janbudweis.de/shows/budweis-wunderlich-hauskonzert-in-lemgo/
DTSTART;VALUE=DATE:20240112
SUMMARY:Budweis Wunderlich Hauskonzert in Lemgo
DESCRIPTION:Budweis Wunderlich\, Hauskonzert in Lemgo\, 20:00 Uhr  Bitte schreibt mir\, wenn Ihr nähere Infos haben wollt.
END:VEVENT
END:VCALENDAR
