BEGIN:VCALENDAR
VERSION:2.0
PRODID:-//AudioTheme 2.3.8
BEGIN:VEVENT
UID:urn:uuid:5c764773-0dd8-49cf-b53c-d3db8bb292ca
URL:https://janbudweis.de/shows/budweis-wunderlich-ensemblekurs-kassel/
DTSTART;VALUE=DATE:20261107
SUMMARY:Budweis Wunderlich Ensemblekurs Kassel
DESCRIPTION:Budweis Wunderlich Ensemblekurs Kassel  7. / 8. November
LOCATION:Elisabeth-Selbert-Haus\, Frankfurter Straße 298\, Kassel\, \, 34134
END:VEVENT
END:VCALENDAR
