BEGIN:VCALENDAR
VERSION:2.0
PRODID:-//AudioTheme 2.3.8
BEGIN:VEVENT
UID:urn:uuid:1be1af0d-791e-4113-8af4-1d65d69dca8f
URL:https://janbudweis.de/shows/budweis-wunderlich-bal-folk-tanzhaus-2/
DTSTART;VALUE=DATE:20261107
SUMMARY:Budweis Wunderlich bal folk Tanzhaus
DESCRIPTION:Casseler Herbstball  Budweis Wunderlich bal folk Tanzhaus  7.November 2026 ab 19:00 Uhr
LOCATION:Elisabeth-Selbert-Haus\, Frankfurter Straße 298\, Kassel\, \, 34134
END:VEVENT
END:VCALENDAR
