BEGIN:VCALENDAR
VERSION:2.0
PRODID:-//AudioTheme 2.3.8
BEGIN:VEVENT
UID:urn:uuid:ae63a3bf-34b6-4bb6-beb3-fae66c43bae2
URL:https://janbudweis.de/shows/bal-folk-tanzhaus/
DTSTART;TZID=GMT:20240302T000000
SUMMARY:Bal Folk / Tanzhaus
DESCRIPTION:Bal Folk mit Trio Basta und Budweis Wunderlich
LOCATION:Gasthof "Zum Hafen"\, Kienitz / Oderbruch\, \, 15324
END:VEVENT
END:VCALENDAR
