BEGIN:VCALENDAR
VERSION:2.0
PRODID:-//AudioTheme 2.3.8
BEGIN:VEVENT
UID:urn:uuid:dee51fdc-c5b1-4533-8ac0-ccb3cc5e1aca
URL:https://janbudweis.de/shows/bal-folk-4/
DTSTART;TZID=GMT:20240113T000000
SUMMARY:bal folk
DESCRIPTION:Bal Folk mit Budweis Wunderlich
LOCATION:Neue Schmiede\, Handwerkerstr. 7\, Bielefeld\, \, 33617
END:VEVENT
END:VCALENDAR
