BEGIN:VCALENDAR
VERSION:2.0
PRODID:-//AudioTheme 2.3.8
BEGIN:VEVENT
UID:urn:uuid:893ae869-617f-4908-84ae-7f828a271fc6
URL:https://janbudweis.de/shows/akkordeonale-tour/
DTSTART;VALUE=DATE:20190510
SUMMARY:akkordeonale tour
DESCRIPTION:www.akkordeonale.de 
LOCATION:KFZ\, Biegenstr.13\, Marburg\, \, 35037
END:VEVENT
END:VCALENDAR
