BEGIN:VCALENDAR
VERSION:2.0
PRODID:-//AudioTheme 2.3.8
BEGIN:VEVENT
UID:urn:uuid:e5fa47d9-be70-4d93-a595-f41565415f9f
URL:https://janbudweis.de/shows/akkordeonale-tour-9/
DTSTART;TZID=GMT:20190424T000000
SUMMARY:akkordeonale tour
LOCATION:Tollhaus\, Karlsruhe\, \, 76131
END:VEVENT
END:VCALENDAR
