BEGIN:VCALENDAR
VERSION:2.0
PRODID:-//AudioTheme 2.3.8
BEGIN:VEVENT
UID:urn:uuid:e5fa47d9-be70-4d93-a595-f41565415f9f
URL:https://janbudweis.de/shows/akkordeonale-tour-4/
DTSTART;TZID=GMT:20190513T000000
SUMMARY:akkordeonale tour
DESCRIPTION:www.akkordeonale.de
LOCATION:Schloss Landestrost\, Schlosstr. 1\, Neustadt\, \, 31535
END:VEVENT
END:VCALENDAR
