BEGIN:VCALENDAR
VERSION:2.0
PRODID:-//AudioTheme 2.3.8
BEGIN:VEVENT
UID:urn:uuid:5c1267d2-2e3f-45fa-97fb-eec2238a8514
URL:https://janbudweis.de/shows/akkordeonale-2/
DTSTART;VALUE=DATE:20231201
SUMMARY:Akkordeonale
DESCRIPTION:1. - 3. Dezember Akkordeonalekurse  Kurs diatonisches Akkordeon
LOCATION:Burg Fürsteneck\, Am Schloßgarten 3\, Burg Fürsteneck\, \, 36132
END:VEVENT
END:VCALENDAR
