BEGIN:VCALENDAR
VERSION:2.0
PRODID:-//AudioTheme 2.3.8
BEGIN:VEVENT
UID:urn:uuid:1bc23ac4-1eda-47f1-b62d-100ac877ff23
URL:https://janbudweis.de/shows/2019-05-09/
DTSTART;TZID=GMT:20190509T000000
SUMMARY:akkordeonale tour
LOCATION:Adventskirche\, Lasallestr.2\, Kassel\, \, 34111
END:VEVENT
END:VCALENDAR
